BEGIN:VCALENDAR
PRODID:-//PUBBLE//agenda//NL
VERSION:2.0
METHOD:PUBLISH
BEGIN:VEVENT
DTSTART:20240524T055757Z
DTEND:20240524T065757Z
DTSTAMP:20260419T130647Z
UID:0c306dd1-97ae-4cc5-823c-e067d35f53a8
CREATED:20260419T130647Z
NAME:Bazaar bij de Voorhof scherpenzeelsekrant.nl
X-WR-CALNAME:Bazaar bij de Voorhof
X-ALT-DESC;FMTTYPE=text/html:<a href='/agenda/2024/5/24/bazaar-bij-de-voorhof-1034597'>/agenda/2024/5/24/bazaar-bij-de-voorhof-1034597</a> || <p>[RENSWOUDE] De Protestantse Gemeente ‘de Voorhof’ in Renswoude (eerder PKN Gereformeerde Kerk Renswoude-Ederveen) organiseert op 8 juni tussen 09:00 en 14:00 uur een bazaar. ,,Dit jaar staan we buiten tussen 09:00 en 14:00 uur. Op het gezellige parkeerterrein achter de kerk is van alles te vinden’’, laat de organisatie weten. ,,We halen het rad weer van zolder en hebben mooie prijzen, er is muziek, hapjes en drankjes, genoeg boeken om uit te kiezen en we laten ons verder verrassen.’’</p><p>Inleveren van spullen (geen meubels) kan op donderdag en vrijdag 6 en 7 juni vanaf 18:00.</p><p>Dit jaar is 50 procent van de opbrengst bestemd voor De Wensambulance. ,,Als er geen wens uit te voeren is, staat de Wensambulance bij ons op de locatie. Kom gerust kijken en laat je informeren door hun vrijwilligers.’’</p><p>Meer informatie is te verkrijgen bij Sandra Lagerweij via 06 3003 9592.</p>
DESCRIPTION:<a href='/agenda/2024/5/24/bazaar-bij-de-voorhof-1034597'>/agenda/2024/5/24/bazaar-bij-de-voorhof-1034597</a> || <p>[RENSWOUDE] De Protestantse Gemeente ‘de Voorhof’ in Renswoude (eerder PKN Gereformeerde Kerk Renswoude-Ederveen) organiseert op 8 juni tussen 09:00 en 14:00 uur een bazaar. ,,Dit jaar staan we buiten tussen 09:00 en 14:00 uur. Op het gezellige parkeerterrein achter de kerk is van alles te vinden’’, laat de organisatie weten. ,,We halen het rad weer van zolder en hebben mooie prijzen, er is muziek, hapjes en drankjes, genoeg boeken om uit te kiezen en we laten ons verder verrassen.’’</p><p>Inleveren van spullen (geen meubels) kan op donderdag en vrijdag 6 en 7 juni vanaf 18:00.</p><p>Dit jaar is 50 procent van de opbrengst bestemd voor De Wensambulance. ,,Als er geen wens uit te voeren is, staat de Wensambulance bij ons op de locatie. Kom gerust kijken en laat je informeren door hun vrijwilligers.’’</p><p>Meer informatie is te verkrijgen bij Sandra Lagerweij via 06 3003 9592.</p>
LAST-MODIFIED:20260419T130647Z
LOCATION: De Voorhof | Dorpsstraat 88 Renswoude
SEQUENCE:0
STATUS:CONFIRMED
SUMMARY:Bazaar bij de Voorhof
TRANSP:OPAQUE
END:VEVENT
END:VCALENDAR
